BEGIN:VCALENDAR
VERSION:2.0
PRODID:-//Fotoclub Groß-Umstadt e.V. - ECPv6.15.18//NONSGML v1.0//EN
CALSCALE:GREGORIAN
METHOD:PUBLISH
X-WR-CALNAME:Fotoclub Groß-Umstadt e.V.
X-ORIGINAL-URL:https://www.fotoclub-gross-umstadt.de
X-WR-CALDESC:Veranstaltungen für Fotoclub Groß-Umstadt e.V.
REFRESH-INTERVAL;VALUE=DURATION:PT1H
X-Robots-Tag:noindex
X-PUBLISHED-TTL:PT1H
BEGIN:VTIMEZONE
TZID:Europe/Berlin
BEGIN:DAYLIGHT
TZOFFSETFROM:+0100
TZOFFSETTO:+0200
TZNAME:CEST
DTSTART:20260329T010000
END:DAYLIGHT
BEGIN:STANDARD
TZOFFSETFROM:+0200
TZOFFSETTO:+0100
TZNAME:CET
DTSTART:20261025T010000
END:STANDARD
BEGIN:DAYLIGHT
TZOFFSETFROM:+0100
TZOFFSETTO:+0200
TZNAME:CEST
DTSTART:20270328T010000
END:DAYLIGHT
BEGIN:STANDARD
TZOFFSETFROM:+0200
TZOFFSETTO:+0100
TZNAME:CET
DTSTART:20271031T010000
END:STANDARD
BEGIN:DAYLIGHT
TZOFFSETFROM:+0100
TZOFFSETTO:+0200
TZNAME:CEST
DTSTART:20280326T010000
END:DAYLIGHT
BEGIN:STANDARD
TZOFFSETFROM:+0200
TZOFFSETTO:+0100
TZNAME:CET
DTSTART:20281029T010000
END:STANDARD
END:VTIMEZONE
BEGIN:VEVENT
DTSTART;TZID=Europe/Berlin:20270106T193000
DTEND;TZID=Europe/Berlin:20270106T210000
DTSTAMP:20260423T123442
CREATED:20260415T135732Z
LAST-MODIFIED:20260420T073527Z
UID:16133-1799263800-1799269200@www.fotoclub-gross-umstadt.de
SUMMARY:Stop Over in Kuala Lumpur\, Reisebericht von Rainer Amend
DESCRIPTION:Rainer Amend wird uns einen Reisebericht von seinem „Stop Over“ in Kuala Lumpur vorstellen.
URL:https://www.fotoclub-gross-umstadt.de/event/interner-reisebericht-zum-clubabend/
LOCATION:Altes Rathaus Klein-Umstadt\, Bahnhofstraße 2\, Groß-Umstadt\, 64823
END:VEVENT
BEGIN:VEVENT
DTSTART;TZID=Europe/Berlin:20270109T170000
DTEND;TZID=Europe/Berlin:20270109T193000
DTSTAMP:20260423T123442
CREATED:20260415T135912Z
LAST-MODIFIED:20260415T135912Z
UID:16135-1799514000-1799523000@www.fotoclub-gross-umstadt.de
SUMMARY:Aufbau Fotobörse
DESCRIPTION:Ab 17.00 Uhr Aufbau der Fotobörse in der Stadhalle.
URL:https://www.fotoclub-gross-umstadt.de/event/aufbau-fotoboerse-5/
LOCATION:Stadthalle Groß-Umstadt\, Am Darmstädter Schloß 6\, 64823 Groß-Umstadt
END:VEVENT
BEGIN:VEVENT
DTSTART;TZID=Europe/Berlin:20270110T100000
DTEND;TZID=Europe/Berlin:20270110T150000
DTSTAMP:20260423T123442
CREATED:20260415T140046Z
LAST-MODIFIED:20260415T140105Z
UID:16137-1799575200-1799593200@www.fotoclub-gross-umstadt.de
SUMMARY:Umstädter Fotobörse
DESCRIPTION:Fotobörse von 10.00 bis 15.00 Uhr\, danach Abbau bis 17.30 Uhr
URL:https://www.fotoclub-gross-umstadt.de/event/umstaedter-fotoboerse/
LOCATION:Stadthalle Groß-Umstadt\, Am Darmstädter Schloß 6\, 64823 Groß-Umstadt
END:VEVENT
BEGIN:VEVENT
DTSTART;TZID=Europe/Berlin:20270110T180000
DTEND;TZID=Europe/Berlin:20270110T193000
DTSTAMP:20260423T123442
CREATED:20260415T140246Z
LAST-MODIFIED:20260415T140305Z
UID:16140-1799604000-1799609400@www.fotoclub-gross-umstadt.de
SUMMARY:Abbau der Ausstellung "Die Magie der kleinen Dinge"
DESCRIPTION:Abbau der Ausstellung „Die Magie der kleinen Dinge“
URL:https://www.fotoclub-gross-umstadt.de/event/abbau-der-ausstellung-die-magie-der-kleinen-dinge/
LOCATION:Säulenhalle im Renaissance-Rathaus Groß-Umstadt\, Markt 1\, Groß-Umstadt\, 64823
END:VEVENT
BEGIN:VEVENT
DTSTART;TZID=Europe/Berlin:20270120T193000
DTEND;TZID=Europe/Berlin:20270120T210000
DTSTAMP:20260423T123442
CREATED:20260415T140514Z
LAST-MODIFIED:20260415T140514Z
UID:16142-1800473400-1800478800@www.fotoclub-gross-umstadt.de
SUMMARY:Diskussion zum Thema KI
DESCRIPTION:Wir führen zum Clubabend einen Diskussion\, welche Rolle Künstliche Intelligenz in unserer Arbeit einnehmen wird und wie wir damit umgehen.
URL:https://www.fotoclub-gross-umstadt.de/event/diskussion-zum-thema-ki/
LOCATION:Altes Rathaus Klein-Umstadt\, Bahnhofstraße 2\, Groß-Umstadt\, 64823
END:VEVENT
END:VCALENDAR