BEGIN:VCALENDAR
VERSION:2.0
PRODID:-//Fotoclub Groß-Umstadt e.V. - ECPv6.15.18//NONSGML v1.0//EN
CALSCALE:GREGORIAN
METHOD:PUBLISH
X-ORIGINAL-URL:https://www.fotoclub-gross-umstadt.de
X-WR-CALDESC:Veranstaltungen für Fotoclub Groß-Umstadt e.V.
REFRESH-INTERVAL;VALUE=DURATION:PT1H
X-Robots-Tag:noindex
X-PUBLISHED-TTL:PT1H
BEGIN:VTIMEZONE
TZID:Europe/Berlin
BEGIN:DAYLIGHT
TZOFFSETFROM:+0100
TZOFFSETTO:+0200
TZNAME:CEST
DTSTART:20250330T010000
END:DAYLIGHT
BEGIN:STANDARD
TZOFFSETFROM:+0200
TZOFFSETTO:+0100
TZNAME:CET
DTSTART:20251026T010000
END:STANDARD
BEGIN:DAYLIGHT
TZOFFSETFROM:+0100
TZOFFSETTO:+0200
TZNAME:CEST
DTSTART:20260329T010000
END:DAYLIGHT
BEGIN:STANDARD
TZOFFSETFROM:+0200
TZOFFSETTO:+0100
TZNAME:CET
DTSTART:20261025T010000
END:STANDARD
BEGIN:DAYLIGHT
TZOFFSETFROM:+0100
TZOFFSETTO:+0200
TZNAME:CEST
DTSTART:20270328T010000
END:DAYLIGHT
BEGIN:STANDARD
TZOFFSETFROM:+0200
TZOFFSETTO:+0100
TZNAME:CET
DTSTART:20271031T010000
END:STANDARD
END:VTIMEZONE
BEGIN:VEVENT
DTSTART;TZID=Europe/Berlin:20261014T193000
DTEND;TZID=Europe/Berlin:20261014T220000
DTSTAMP:20260421T103844
CREATED:20260415T132652Z
LAST-MODIFIED:20260416T082059Z
UID:16113-1792006200-1792015200@www.fotoclub-gross-umstadt.de
SUMMARY:Vortrag und Diskussion zum Thema Waldfotografie
DESCRIPTION:Mit einem Vortrag und Diskussion wollen wir uns mit dem Thema Fotografie im Wald und Fotografie von Pilzen beschäftigen und einen Workshop zu diesem Thema am folgenden Wochenende vorbereiten.
URL:https://www.fotoclub-gross-umstadt.de/event/externer-vortrag-zu-einem-interessanten-thema/
LOCATION:Altes Rathaus Klein-Umstadt\, Bahnhofstraße 2\, Groß-Umstadt\, 64823
END:VEVENT
BEGIN:VEVENT
DTSTART;TZID=Europe/Berlin:20261017T080000
DTEND;TZID=Europe/Berlin:20261017T210000
DTSTAMP:20260421T103844
CREATED:20260415T132904Z
LAST-MODIFIED:20260416T082416Z
UID:16115-1792224000-1792270800@www.fotoclub-gross-umstadt.de
SUMMARY:Gemeinsames Fotografieren im Wald\, Fotos von Pilzen
DESCRIPTION:Workshop als Nachfolge für die Vortrags- und Diskussionsveranstaltung zur Waldfotografie am 14.10.2026. Wir suchen uns ein Waldgebiet in der Nähe von Michelstadt aus.
URL:https://www.fotoclub-gross-umstadt.de/event/workshop-als-nachfolge-vom-vortrag-am-mittwoch/
LOCATION:Michelstadt\, Michelstadt
END:VEVENT
BEGIN:VEVENT
DTSTART;TZID=Europe/Berlin:20261028T193000
DTEND;TZID=Europe/Berlin:20261028T210000
DTSTAMP:20260421T103844
CREATED:20260415T132335Z
LAST-MODIFIED:20260416T081730Z
UID:16111-1793215800-1793221200@www.fotoclub-gross-umstadt.de
SUMMARY:Vortrag zu Bildgestaltung und Portrait
DESCRIPTION:In einem Vortrag stellt uns Volker Grundlagen für die Bildgestaltung zur Personenfotografie von Portrait bis Akt vor und diskutiert diese an zahlreichen Bildbeispielen.
URL:https://www.fotoclub-gross-umstadt.de/event/vortrag-zu-bildgestaltung-und-portrait/
LOCATION:Altes Rathaus Klein-Umstadt\, Bahnhofstraße 2\, Groß-Umstadt\, 64823
END:VEVENT
END:VCALENDAR