BEGIN:VCALENDAR
VERSION:2.0
PRODID:-//Fotoclub Groß-Umstadt e.V. - ECPv6.15.18//NONSGML v1.0//EN
CALSCALE:GREGORIAN
METHOD:PUBLISH
X-ORIGINAL-URL:https://www.fotoclub-gross-umstadt.de
X-WR-CALDESC:Veranstaltungen für Fotoclub Groß-Umstadt e.V.
REFRESH-INTERVAL;VALUE=DURATION:PT1H
X-Robots-Tag:noindex
X-PUBLISHED-TTL:PT1H
BEGIN:VTIMEZONE
TZID:Europe/Berlin
BEGIN:DAYLIGHT
TZOFFSETFROM:+0100
TZOFFSETTO:+0200
TZNAME:CEST
DTSTART:20250330T010000
END:DAYLIGHT
BEGIN:STANDARD
TZOFFSETFROM:+0200
TZOFFSETTO:+0100
TZNAME:CET
DTSTART:20251026T010000
END:STANDARD
BEGIN:DAYLIGHT
TZOFFSETFROM:+0100
TZOFFSETTO:+0200
TZNAME:CEST
DTSTART:20260329T010000
END:DAYLIGHT
BEGIN:STANDARD
TZOFFSETFROM:+0200
TZOFFSETTO:+0100
TZNAME:CET
DTSTART:20261025T010000
END:STANDARD
BEGIN:DAYLIGHT
TZOFFSETFROM:+0100
TZOFFSETTO:+0200
TZNAME:CEST
DTSTART:20270328T010000
END:DAYLIGHT
BEGIN:STANDARD
TZOFFSETFROM:+0200
TZOFFSETTO:+0100
TZNAME:CET
DTSTART:20271031T010000
END:STANDARD
END:VTIMEZONE
BEGIN:VEVENT
DTSTART;TZID=Europe/Berlin:20260902T193000
DTEND;TZID=Europe/Berlin:20260902T210000
DTSTAMP:20260419T174433
CREATED:20260415T131303Z
LAST-MODIFIED:20260415T131303Z
UID:16101-1788377400-1788382800@www.fotoclub-gross-umstadt.de
SUMMARY:Bilder von unseren letzten Ausflügen
DESCRIPTION:Wir schauen wieder mal Bilder an. Von unseren letzten Ausflügen oder auch die schönsten von jedem aus dem Sommer. \nJeder kann sich mit 10 bis 20 Bildern an der Show beteiligen.
URL:https://www.fotoclub-gross-umstadt.de/event/bilder-von-unseren-letzten-ausfluegen-5/
LOCATION:Altes Rathaus Klein-Umstadt\, Bahnhofstraße 2\, Groß-Umstadt\, 64823
END:VEVENT
BEGIN:VEVENT
DTSTART;TZID=Europe/Berlin:20260916T193000
DTEND;TZID=Europe/Berlin:20260916T210000
DTSTAMP:20260419T174433
CREATED:20260415T131502Z
LAST-MODIFIED:20260415T131502Z
UID:16103-1789587000-1789592400@www.fotoclub-gross-umstadt.de
SUMMARY:externer Vortrag Panoramafotografie
DESCRIPTION:Geplant ist ein externer Vortrag zum Thema Panorama-Fotografie
URL:https://www.fotoclub-gross-umstadt.de/event/externer-vortrag-panoramafotografie/
LOCATION:Altes Rathaus Klein-Umstadt\, Bahnhofstraße 2\, Groß-Umstadt\, 64823
END:VEVENT
BEGIN:VEVENT
DTSTART;TZID=Europe/Berlin:20260926T100000
DTEND;TZID=Europe/Berlin:20260926T220000
DTSTAMP:20260419T174433
CREATED:20260415T131657Z
LAST-MODIFIED:20260415T131657Z
UID:16105-1790416800-1790460000@www.fotoclub-gross-umstadt.de
SUMMARY:Ausflug Eltville/Kloster Eberbach
DESCRIPTION:Unser Samstagsausflug führt uns nach Eltville und zum Kloster Eberbach.
URL:https://www.fotoclub-gross-umstadt.de/event/ausflug-eltville-kloster-eberbach/
LOCATION:Eltville\, Eltville
END:VEVENT
BEGIN:VEVENT
DTSTART;TZID=Europe/Berlin:20260930T193000
DTEND;TZID=Europe/Berlin:20260930T220000
DTSTAMP:20260419T174433
CREATED:20260415T132038Z
LAST-MODIFIED:20260415T132038Z
UID:16109-1790796600-1790805600@www.fotoclub-gross-umstadt.de
SUMMARY:Finale Entscheidung zu den Bildern für unsere kommende Ausstellung
DESCRIPTION:Für unsere kommende Ausstellung „Die Magie der kleinen Dinge“ schauen wir uns gemeinsam die Bildvorschläge an\, diskutieren diese und entscheiden gemeinsam\, was in die Ausstellung kommt.
URL:https://www.fotoclub-gross-umstadt.de/event/finale-entscheidung-zu-den-bildern-fuer-unsere-kommende-ausstellung/
LOCATION:Altes Rathaus Klein-Umstadt\, Bahnhofstraße 2\, Groß-Umstadt\, 64823
END:VEVENT
END:VCALENDAR