BEGIN:VCALENDAR
VERSION:2.0
PRODID:-//Fotoclub Groß-Umstadt e.V. - ECPv6.15.18//NONSGML v1.0//EN
CALSCALE:GREGORIAN
METHOD:PUBLISH
X-ORIGINAL-URL:https://www.fotoclub-gross-umstadt.de
X-WR-CALDESC:Veranstaltungen für Fotoclub Groß-Umstadt e.V.
REFRESH-INTERVAL;VALUE=DURATION:PT1H
X-Robots-Tag:noindex
X-PUBLISHED-TTL:PT1H
BEGIN:VTIMEZONE
TZID:Europe/Berlin
BEGIN:DAYLIGHT
TZOFFSETFROM:+0100
TZOFFSETTO:+0200
TZNAME:CEST
DTSTART:20250330T010000
END:DAYLIGHT
BEGIN:STANDARD
TZOFFSETFROM:+0200
TZOFFSETTO:+0100
TZNAME:CET
DTSTART:20251026T010000
END:STANDARD
BEGIN:DAYLIGHT
TZOFFSETFROM:+0100
TZOFFSETTO:+0200
TZNAME:CEST
DTSTART:20260329T010000
END:DAYLIGHT
BEGIN:STANDARD
TZOFFSETFROM:+0200
TZOFFSETTO:+0100
TZNAME:CET
DTSTART:20261025T010000
END:STANDARD
BEGIN:DAYLIGHT
TZOFFSETFROM:+0100
TZOFFSETTO:+0200
TZNAME:CEST
DTSTART:20270328T010000
END:DAYLIGHT
BEGIN:STANDARD
TZOFFSETFROM:+0200
TZOFFSETTO:+0100
TZNAME:CET
DTSTART:20271031T010000
END:STANDARD
END:VTIMEZONE
BEGIN:VEVENT
DTSTART;TZID=Europe/Berlin:20260805T150000
DTEND;TZID=Europe/Berlin:20260805T210000
DTSTAMP:20260419T161436
CREATED:20260415T130629Z
LAST-MODIFIED:20260415T130629Z
UID:16094-1785942000-1785963600@www.fotoclub-gross-umstadt.de
SUMMARY:Ausflug: Wildpferde in Aschaffenburg Schweinheim
DESCRIPTION:Geplant ist eine Fototour in den Wildpark  zu den Przewalski-Wildpferden in Aschaffenburg Schweinheim. Wir versuchen einen Führung zu organisieren.
URL:https://www.fotoclub-gross-umstadt.de/event/ausflug-wildpferde-in-aschaffenburg-schweinheim/
LOCATION:Aschaffenburg\, Aschaffenburg
END:VEVENT
BEGIN:VEVENT
DTSTART;TZID=Europe/Berlin:20260819T193000
DTEND;TZID=Europe/Berlin:20260819T210000
DTSTAMP:20260419T161436
CREATED:20260415T125408Z
LAST-MODIFIED:20260415T125408Z
UID:16086-1787167800-1787173200@www.fotoclub-gross-umstadt.de
SUMMARY:Wettbewerb Eisenbahn/Auto/Verkehr\, Papierbilder
DESCRIPTION:Unser Wettbewerb dreht sich um Themen rund um die Eisenbahn\, das Auto oder generell den Verkehr. \nJeder/Jede darf sich mit jeweils einem Papierbild in schwarz-weiß und Farbe an dem Wettbewerb beteiligen. \nWir jurieren und diskutieren die Bilder gemeinsam im Team.
URL:https://www.fotoclub-gross-umstadt.de/event/wettbewerb-eisenbahn-auto-verkehr-papierbilder/
LOCATION:Altes Rathaus Klein-Umstadt\, Bahnhofstraße 2\, Groß-Umstadt\, 64823
END:VEVENT
BEGIN:VEVENT
DTSTART;TZID=Europe/Berlin:20260830T080000
DTEND;TZID=Europe/Berlin:20260830T210000
DTSTAMP:20260419T161436
CREATED:20260415T131014Z
LAST-MODIFIED:20260416T081617Z
UID:16096-1788076800-1788123600@www.fotoclub-gross-umstadt.de
SUMMARY:Ausflug nach Wertheim
DESCRIPTION:Unsere traditionelle Bustour\, die wir wieder ohne Bus mit dem PKW durchführen\, führt uns diesmal nach Wertheim am Main. Das Program und das genaue Datum wird noch rechtzeitig bekanntgegeben.
URL:https://www.fotoclub-gross-umstadt.de/event/ausflug-nach-wertheim/
LOCATION:Wertheim\, Wertheim am Main
END:VEVENT
END:VCALENDAR